BEGIN:VCALENDAR
VERSION:2.0
PRODID:-//Funkstown, MD - ECPv6.15.17.1//NONSGML v1.0//EN
CALSCALE:GREGORIAN
METHOD:PUBLISH
X-WR-CALNAME:Funkstown, MD
X-ORIGINAL-URL:https://www.funkstown.com
X-WR-CALDESC:Events for Funkstown, MD
REFRESH-INTERVAL;VALUE=DURATION:PT1H
X-Robots-Tag:noindex
X-PUBLISHED-TTL:PT1H
BEGIN:VTIMEZONE
TZID:America/New_York
BEGIN:DAYLIGHT
TZOFFSETFROM:-0500
TZOFFSETTO:-0400
TZNAME:EDT
DTSTART:20250309T070000
END:DAYLIGHT
BEGIN:STANDARD
TZOFFSETFROM:-0400
TZOFFSETTO:-0500
TZNAME:EST
DTSTART:20251102T060000
END:STANDARD
BEGIN:DAYLIGHT
TZOFFSETFROM:-0500
TZOFFSETTO:-0400
TZNAME:EDT
DTSTART:20260308T070000
END:DAYLIGHT
BEGIN:STANDARD
TZOFFSETFROM:-0400
TZOFFSETTO:-0500
TZNAME:EST
DTSTART:20261101T060000
END:STANDARD
BEGIN:DAYLIGHT
TZOFFSETFROM:-0500
TZOFFSETTO:-0400
TZNAME:EDT
DTSTART:20270314T070000
END:DAYLIGHT
BEGIN:STANDARD
TZOFFSETFROM:-0400
TZOFFSETTO:-0500
TZNAME:EST
DTSTART:20271107T060000
END:STANDARD
END:VTIMEZONE
BEGIN:VEVENT
DTSTART;TZID=America/New_York:20260504T090000
DTEND;TZID=America/New_York:20260504T180000
DTSTAMP:20260421T114335
CREATED:20260211T192543Z
LAST-MODIFIED:20260211T192543Z
UID:4015-1777885200-1777917600@www.funkstown.com
SUMMARY:Town Election
DESCRIPTION:We will be electing a mayor\, and 2 council members
URL:https://www.funkstown.com/event/town-election/
CATEGORIES:Town Events
END:VEVENT
BEGIN:VEVENT
DTSTART;VALUE=DATE:20260516
DTEND;VALUE=DATE:20260518
DTSTAMP:20260421T114335
CREATED:20260312T104331Z
LAST-MODIFIED:20260312T104331Z
UID:4050-1778889600-1779062399@www.funkstown.com
SUMMARY:National Pike Festival
DESCRIPTION:This is the wagon train week end with the participants betting down in the park overnight between Saturday and Sunday. Take time out to go visit and pick out your favorite horse.
URL:https://www.funkstown.com/event/national-pike-festival/
LOCATION:Funkstown Park pavilion #4
CATEGORIES:Town Events
END:VEVENT
END:VCALENDAR