BEGIN:VCALENDAR
VERSION:2.0
PRODID:-//Funkstown, MD - ECPv6.15.17.1//NONSGML v1.0//EN
CALSCALE:GREGORIAN
METHOD:PUBLISH
X-ORIGINAL-URL:https://www.funkstown.com
X-WR-CALDESC:Events for Funkstown, MD
REFRESH-INTERVAL;VALUE=DURATION:PT1H
X-Robots-Tag:noindex
X-PUBLISHED-TTL:PT1H
BEGIN:VTIMEZONE
TZID:America/New_York
BEGIN:DAYLIGHT
TZOFFSETFROM:-0500
TZOFFSETTO:-0400
TZNAME:EDT
DTSTART:20250309T070000
END:DAYLIGHT
BEGIN:STANDARD
TZOFFSETFROM:-0400
TZOFFSETTO:-0500
TZNAME:EST
DTSTART:20251102T060000
END:STANDARD
BEGIN:DAYLIGHT
TZOFFSETFROM:-0500
TZOFFSETTO:-0400
TZNAME:EDT
DTSTART:20260308T070000
END:DAYLIGHT
BEGIN:STANDARD
TZOFFSETFROM:-0400
TZOFFSETTO:-0500
TZNAME:EST
DTSTART:20261101T060000
END:STANDARD
BEGIN:DAYLIGHT
TZOFFSETFROM:-0500
TZOFFSETTO:-0400
TZNAME:EDT
DTSTART:20270314T070000
END:DAYLIGHT
BEGIN:STANDARD
TZOFFSETFROM:-0400
TZOFFSETTO:-0500
TZNAME:EST
DTSTART:20271107T060000
END:STANDARD
END:VTIMEZONE
BEGIN:VEVENT
DTSTART;TZID=America/New_York:20260420T190000
DTEND;TZID=America/New_York:20260420T200000
DTSTAMP:20260421T100203
CREATED:20260211T191909Z
LAST-MODIFIED:20260324T211326Z
UID:4008-1776711600-1776715200@www.funkstown.com
SUMMARY:Town Council meeting
DESCRIPTION:
URL:https://www.funkstown.com/event/town-council-meeting/
CATEGORIES:Council Meetings
END:VEVENT
BEGIN:VEVENT
DTSTART;TZID=America/New_York:20260404T100000
DTEND;TZID=America/New_York:20260404T110000
DTSTAMP:20260421T100203
CREATED:20260312T105256Z
LAST-MODIFIED:20260312T105256Z
UID:4052-1775296800-1775300400@www.funkstown.com
SUMMARY:Spring Fling
DESCRIPTION:Saint Paul Church will be hosting the Easter egg hunt in the park.
URL:https://www.funkstown.com/event/spring-fling/
LOCATION:Funkstown Park
CATEGORIES:Town Events
ORGANIZER;CN="St Pauls Church":MAILTO:info@stpaulsfunkstownmd.org
END:VEVENT
BEGIN:VEVENT
DTSTART;VALUE=DATE:20260401
DTEND;VALUE=DATE:20260402
DTSTAMP:20260421T100203
CREATED:20260312T103921Z
LAST-MODIFIED:20260312T103921Z
UID:4048-1775001600-1775087999@www.funkstown.com
SUMMARY:Yard waste
DESCRIPTION:First day of yard wast for the year.
URL:https://www.funkstown.com/event/yard-waste/
CATEGORIES:Town Events
END:VEVENT
BEGIN:VEVENT
DTSTART;TZID=America/New_York:20260309T190000
DTEND;TZID=America/New_York:20260309T200000
DTSTAMP:20260421T100203
CREATED:20260211T192252Z
LAST-MODIFIED:20260211T193119Z
UID:4010-1773082800-1773086400@www.funkstown.com
SUMMARY:Town Council meeting
DESCRIPTION:
URL:https://www.funkstown.com/event/town-council-meeting-2/
CATEGORIES:Council Meetings
END:VEVENT
BEGIN:VEVENT
DTSTART;VALUE=DATE:20260216
DTEND;VALUE=DATE:20260217
DTSTAMP:20260421T100203
CREATED:20260211T191810Z
LAST-MODIFIED:20260211T192100Z
UID:4006-1771200000-1771286399@www.funkstown.com
SUMMARY:Presidents Day
DESCRIPTION:Town Hall is closed
URL:https://www.funkstown.com/event/presidents-day/
CATEGORIES:Holiday
END:VEVENT
BEGIN:VEVENT
DTSTART;VALUE=DATE:20260211
DTEND;VALUE=DATE:20260212
DTSTAMP:20260421T100203
CREATED:20260211T194130Z
LAST-MODIFIED:20260211T194130Z
UID:4035-1770768000-1770854399@www.funkstown.com
SUMMARY:Veterans Day
DESCRIPTION:Office will be closed
URL:https://www.funkstown.com/event/veterans-day/
CATEGORIES:Holiday
END:VEVENT
END:VCALENDAR