BEGIN:VCALENDAR
VERSION:2.0
PRODID:-//Funkstown, MD - ECPv6.15.17.1//NONSGML v1.0//EN
CALSCALE:GREGORIAN
METHOD:PUBLISH
X-WR-CALNAME:Funkstown, MD
X-ORIGINAL-URL:https://www.funkstown.com
X-WR-CALDESC:Events for Funkstown, MD
REFRESH-INTERVAL;VALUE=DURATION:PT1H
X-Robots-Tag:noindex
X-PUBLISHED-TTL:PT1H
BEGIN:VTIMEZONE
TZID:America/New_York
BEGIN:DAYLIGHT
TZOFFSETFROM:-0500
TZOFFSETTO:-0400
TZNAME:EDT
DTSTART:20250309T070000
END:DAYLIGHT
BEGIN:STANDARD
TZOFFSETFROM:-0400
TZOFFSETTO:-0500
TZNAME:EST
DTSTART:20251102T060000
END:STANDARD
BEGIN:DAYLIGHT
TZOFFSETFROM:-0500
TZOFFSETTO:-0400
TZNAME:EDT
DTSTART:20260308T070000
END:DAYLIGHT
BEGIN:STANDARD
TZOFFSETFROM:-0400
TZOFFSETTO:-0500
TZNAME:EST
DTSTART:20261101T060000
END:STANDARD
BEGIN:DAYLIGHT
TZOFFSETFROM:-0500
TZOFFSETTO:-0400
TZNAME:EDT
DTSTART:20270314T070000
END:DAYLIGHT
BEGIN:STANDARD
TZOFFSETFROM:-0400
TZOFFSETTO:-0500
TZNAME:EST
DTSTART:20271107T060000
END:STANDARD
BEGIN:DAYLIGHT
TZOFFSETFROM:-0500
TZOFFSETTO:-0400
TZNAME:EDT
DTSTART:20280312T070000
END:DAYLIGHT
BEGIN:STANDARD
TZOFFSETFROM:-0400
TZOFFSETTO:-0500
TZNAME:EST
DTSTART:20281105T060000
END:STANDARD
END:VTIMEZONE
BEGIN:VEVENT
DTSTART;TZID=America/New_York:20260504T090000
DTEND;TZID=America/New_York:20260504T180000
DTSTAMP:20260421T082409
CREATED:20260211T192543Z
LAST-MODIFIED:20260211T192543Z
UID:4015-1777885200-1777917600@www.funkstown.com
SUMMARY:Town Election
DESCRIPTION:We will be electing a mayor\, and 2 council members
URL:https://www.funkstown.com/event/town-election/
CATEGORIES:Town Events
END:VEVENT
BEGIN:VEVENT
DTSTART;TZID=America/New_York:20260511T190000
DTEND;TZID=America/New_York:20260511T200000
DTSTAMP:20260421T082409
CREATED:20260211T192416Z
LAST-MODIFIED:20260211T193436Z
UID:4013-1778526000-1778529600@www.funkstown.com
SUMMARY:Town Council meeting
DESCRIPTION:
URL:https://www.funkstown.com/event/town-council-meeting-3/
CATEGORIES:Council Meetings
END:VEVENT
BEGIN:VEVENT
DTSTART;VALUE=DATE:20260516
DTEND;VALUE=DATE:20260518
DTSTAMP:20260421T082409
CREATED:20260312T104331Z
LAST-MODIFIED:20260312T104331Z
UID:4050-1778889600-1779062399@www.funkstown.com
SUMMARY:National Pike Festival
DESCRIPTION:This is the wagon train week end with the participants betting down in the park overnight between Saturday and Sunday. Take time out to go visit and pick out your favorite horse.
URL:https://www.funkstown.com/event/national-pike-festival/
LOCATION:Funkstown Park pavilion #4
CATEGORIES:Town Events
END:VEVENT
BEGIN:VEVENT
DTSTART;VALUE=DATE:20260525
DTEND;VALUE=DATE:20260526
DTSTAMP:20260421T082409
CREATED:20260211T192639Z
LAST-MODIFIED:20260211T193347Z
UID:4017-1779667200-1779753599@www.funkstown.com
SUMMARY:Memorial Day
DESCRIPTION:Town office close
URL:https://www.funkstown.com/event/memorial-day/
CATEGORIES:Holiday
END:VEVENT
BEGIN:VEVENT
DTSTART;TZID=America/New_York:20260608T190000
DTEND;TZID=America/New_York:20260608T200000
DTSTAMP:20260421T082409
CREATED:20260211T192716Z
LAST-MODIFIED:20260211T193306Z
UID:4019-1780945200-1780948800@www.funkstown.com
SUMMARY:Town Council meeting
DESCRIPTION:
URL:https://www.funkstown.com/event/town-council-meeting-4/
CATEGORIES:Council Meetings
END:VEVENT
BEGIN:VEVENT
DTSTART;VALUE=DATE:20260703
DTEND;VALUE=DATE:20260704
DTSTAMP:20260421T082409
CREATED:20260211T192832Z
LAST-MODIFIED:20260211T193239Z
UID:4021-1783036800-1783123199@www.funkstown.com
SUMMARY:July 4th
DESCRIPTION:Office will be close for the 4th
URL:https://www.funkstown.com/event/july-4th/
CATEGORIES:Holiday
END:VEVENT
BEGIN:VEVENT
DTSTART;TZID=America/New_York:20260713T080000
DTEND;TZID=America/New_York:20260713T170000
DTSTAMP:20260421T082409
CREATED:20260211T192911Z
LAST-MODIFIED:20260211T192911Z
UID:4023-1783929600-1783962000@www.funkstown.com
SUMMARY:Town Council meeting
DESCRIPTION:
URL:https://www.funkstown.com/event/town-council-meeting-5/
CATEGORIES:Council Meetings
END:VEVENT
BEGIN:VEVENT
DTSTART;TZID=America/New_York:20260810T190000
DTEND;TZID=America/New_York:20260810T200000
DTSTAMP:20260421T082409
CREATED:20260211T193022Z
LAST-MODIFIED:20260211T193022Z
UID:4025-1786388400-1786392000@www.funkstown.com
SUMMARY:Town Council meeting
DESCRIPTION:
URL:https://www.funkstown.com/event/town-council-meeting-6/
CATEGORIES:Council Meetings
END:VEVENT
BEGIN:VEVENT
DTSTART;VALUE=DATE:20260907
DTEND;VALUE=DATE:20260908
DTSTAMP:20260421T082409
CREATED:20260211T193713Z
LAST-MODIFIED:20260211T193713Z
UID:4027-1788739200-1788825599@www.funkstown.com
SUMMARY:Labor Day
DESCRIPTION:Office will be closed
URL:https://www.funkstown.com/event/labor-day/
CATEGORIES:Holiday
END:VEVENT
BEGIN:VEVENT
DTSTART;TZID=America/New_York:20260914T190000
DTEND;TZID=America/New_York:20260914T200000
DTSTAMP:20260421T082409
CREATED:20260211T193830Z
LAST-MODIFIED:20260211T193830Z
UID:4029-1789412400-1789416000@www.funkstown.com
SUMMARY:Town Council meeting
DESCRIPTION:
URL:https://www.funkstown.com/event/town-council-meeting-7/
CATEGORIES:Council Meetings
END:VEVENT
BEGIN:VEVENT
DTSTART;TZID=America/New_York:20261012T190000
DTEND;TZID=America/New_York:20261012T200000
DTSTAMP:20260421T082409
CREATED:20260211T193925Z
LAST-MODIFIED:20260211T193938Z
UID:4031-1791831600-1791835200@www.funkstown.com
SUMMARY:Town Council meeting
DESCRIPTION:
URL:https://www.funkstown.com/event/town-council-meeting-8/
CATEGORIES:Council Meetings
END:VEVENT
BEGIN:VEVENT
DTSTART;TZID=America/New_York:20261109T190000
DTEND;TZID=America/New_York:20261109T200000
DTSTAMP:20260421T082409
CREATED:20260211T194033Z
LAST-MODIFIED:20260211T194033Z
UID:4033-1794250800-1794254400@www.funkstown.com
SUMMARY:Town Council meeting
DESCRIPTION:
URL:https://www.funkstown.com/event/town-council-meeting-9/
CATEGORIES:Council Meetings
END:VEVENT
BEGIN:VEVENT
DTSTART;VALUE=DATE:20261126
DTEND;VALUE=DATE:20261128
DTSTAMP:20260421T082409
CREATED:20260211T194231Z
LAST-MODIFIED:20260211T194231Z
UID:4037-1795651200-1795823999@www.funkstown.com
SUMMARY:Thanksgiving Day
DESCRIPTION:Office will be closed
URL:https://www.funkstown.com/event/thanksgiving-day/
CATEGORIES:Holiday
END:VEVENT
BEGIN:VEVENT
DTSTART;TZID=America/New_York:20261214T190000
DTEND;TZID=America/New_York:20261214T200000
DTSTAMP:20260421T082409
CREATED:20260211T194343Z
LAST-MODIFIED:20260211T194343Z
UID:4039-1797274800-1797278400@www.funkstown.com
SUMMARY:Town Council meeting
DESCRIPTION:
URL:https://www.funkstown.com/event/town-council-meeting-10/
CATEGORIES:Council Meetings
END:VEVENT
BEGIN:VEVENT
DTSTART;VALUE=DATE:20261224
DTEND;VALUE=DATE:20261226
DTSTAMP:20260421T082409
CREATED:20260211T194434Z
LAST-MODIFIED:20260211T194434Z
UID:4041-1798070400-1798243199@www.funkstown.com
SUMMARY:Christmas
DESCRIPTION:Office is closed
URL:https://www.funkstown.com/event/christmas/
CATEGORIES:Holiday
END:VEVENT
BEGIN:VEVENT
DTSTART;VALUE=DATE:20261231
DTEND;VALUE=DATE:20270102
DTSTAMP:20260421T082409
CREATED:20260211T194537Z
LAST-MODIFIED:20260211T194537Z
UID:4043-1798675200-1798847999@www.funkstown.com
SUMMARY:New Years Day
DESCRIPTION:Office is closed
URL:https://www.funkstown.com/event/new-years-day/
CATEGORIES:Holiday
END:VEVENT
END:VCALENDAR